BEGIN:VCALENDAR
VERSION:2.0
PRODID:SchoolNow
CALSCALE:GREGORIAN
BEGIN:VEVENT
UID:48cc8698-100a-11ec-b04e-0a7c49726989
DTSTAMP:20210907T183449Z
SUMMARY:Early Dismissal Drills (11-23-21)
URL;VALUE=URI:https://www.liverpool.k12.ny.us/schools/lm/calendar/2715128/e
 arly-dismissal-drills-11-23-21
DTSTART:20211123T193300Z
DTEND:20211123T203300Z
END:VEVENT
END:VCALENDAR
