BEGIN:VCALENDAR
VERSION:2.0
PRODID:SchoolNow
CALSCALE:GREGORIAN
BEGIN:VEVENT
UID:d5897cac-100b-11ec-b3df-0a7c49726989
DTSTAMP:20211208T175903Z
SUMMARY:Middle School Report Cards Online (2-4-22)
URL;VALUE=URI:https://www.liverpool.k12.ny.us/schools/lm/calendar/2715164/m
 iddle-school-report-cards-online-2-2-22
DTSTART:20220204T194400Z
DTEND:20220204T204400Z
END:VEVENT
END:VCALENDAR
