BEGIN:VCALENDAR
VERSION:2.0
PRODID:SchoolNow
CALSCALE:GREGORIAN
BEGIN:VEVENT
UID:51e4246e-100c-11ec-98b1-0a7c49726989
DTSTAMP:20210907T184924Z
SUMMARY:Middle School Parent Conferences (3-10-22)
URL;VALUE=URI:https://www.liverpool.k12.ny.us/schools/lm/calendar/2715170/m
 iddle-school-parent-conferences-3-10-22
DTSTART:20220310T194800Z
DTEND:20220310T204800Z
END:VEVENT
END:VCALENDAR
