BEGIN:VCALENDAR
VERSION:2.0
PRODID:SchoolNow
CALSCALE:GREGORIAN
BEGIN:VEVENT
UID:a708de8a-100c-11ec-a89b-0a7c49726989
DTSTAMP:20210907T185146Z
SUMMARY:Middle School Early Dismissal (3-11-22)
URL;VALUE=URI:https://www.liverpool.k12.ny.us/schools/lm/calendar/2715175/m
 iddle-school-early-dismissal-3-11-22
DTSTART:20220311T194900Z
DTEND:20220311T204900Z
END:VEVENT
END:VCALENDAR
