BEGIN:VCALENDAR
VERSION:2.0
PRODID:SchoolNow
CALSCALE:GREGORIAN
BEGIN:VEVENT
UID:2e79d946-100d-11ec-abaf-0a7c49726989
DTSTAMP:20211208T180043Z
SUMMARY:Middle School Report Cards Online (4-22-22)
URL;VALUE=URI:https://www.liverpool.k12.ny.us/schools/lm/calendar/2715198/m
 iddle-school-report-cards-online-4-13-22
DTSTART:20220422T185400Z
DTEND:20220422T195400Z
END:VEVENT
END:VCALENDAR
