BEGIN:VCALENDAR
VERSION:2.0
PRODID:SchoolNow
CALSCALE:GREGORIAN
BEGIN:VEVENT
UID:222afb9c-100e-11ec-bddf-0a7c49726989
DTSTAMP:20210907T190223Z
SUMMARY:Professional Development - Half Day (6-10-22)
URL;VALUE=URI:https://www.liverpool.k12.ny.us/schools/lm/calendar/2715224/p
 rofessional-development-half-day-6-10-22
DTSTART:20220610T190100Z
DTEND:20220610T200100Z
END:VEVENT
END:VCALENDAR
