BEGIN:VCALENDAR
VERSION:2.0
PRODID:SchoolNow
CALSCALE:GREGORIAN
BEGIN:VEVENT
UID:65aaff5c-100e-11ec-9a36-0a7c49726989
DTSTAMP:20210907T190416Z
SUMMARY:Juneteenth Observance - School Closed (6-20-22)
URL;VALUE=URI:https://www.liverpool.k12.ny.us/schools/lm/calendar/2715238/j
 uneteenth-observance-school-closed-6-20-22
DTSTART;VALUE=DATE:20220620
DTEND;VALUE=DATE:20220621
END:VEVENT
END:VCALENDAR
