BEGIN:VCALENDAR
VERSION:2.0
PRODID:SchoolNow
CALSCALE:GREGORIAN
BEGIN:VEVENT
UID:c99798b8-100e-11ec-9ca1-0a7c49726989
DTSTAMP:20211208T180113Z
SUMMARY:Middle School Report Cards Online (7-1-22)
URL;VALUE=URI:https://www.liverpool.k12.ny.us/schools/lm/calendar/2715257/m
 iddle-school-report-cards-online-6-29-22
DTSTART:20220701T190500Z
DTEND:20220701T200500Z
END:VEVENT
END:VCALENDAR
