BEGIN:VCALENDAR
VERSION:2.0
PRODID:SchoolNow
CALSCALE:GREGORIAN
BEGIN:VEVENT
UID:52351128-100f-11ec-9604-0a7c49726989
DTSTAMP:20210907T191053Z
SUMMARY:Middle School Progress Reports Online (10-15-21)
URL;VALUE=URI:https://www.liverpool.k12.ny.us/schools/lm/calendar/2715263/m
 iddle-school-progress-reports-online-10-15-21
DTSTART:20211015T190900Z
DTEND:20211015T200900Z
END:VEVENT
END:VCALENDAR
