BEGIN:VCALENDAR
VERSION:2.0
PRODID:SchoolNow
CALSCALE:GREGORIAN
BEGIN:VEVENT
UID:75185402-100f-11ec-82ed-0a7c49726989
DTSTAMP:20211208T175758Z
SUMMARY:Middle School Progress Reports Online (12-23-21)
URL;VALUE=URI:https://www.liverpool.k12.ny.us/schools/lm/calendar/2715268/m
 iddle-school-progress-reports-online-12-10-21
DTSTART:20211223T201000Z
DTEND:20211223T211000Z
END:VEVENT
END:VCALENDAR
