BEGIN:VCALENDAR
VERSION:2.0
PRODID:SchoolNow
CALSCALE:GREGORIAN
BEGIN:VEVENT
UID:93e6a50a-100f-11ec-8c22-0a7c49726989
DTSTAMP:20210907T191243Z
SUMMARY:Middle School Progress Reports Online (3-18-22)
URL;VALUE=URI:https://www.liverpool.k12.ny.us/schools/lm/calendar/2715272/m
 iddle-school-progress-reports-online-3-18-22
DTSTART:20220318T191100Z
DTEND:20220318T201100Z
END:VEVENT
END:VCALENDAR
