BEGIN:VCALENDAR
VERSION:2.0
PRODID:SchoolNow
CALSCALE:GREGORIAN
BEGIN:VEVENT
UID:bcedf8f4-100f-11ec-9fa3-0a7c49726989
DTSTAMP:20210907T191352Z
SUMMARY:Middle School Progress Reports Online (5-27-22)
URL;VALUE=URI:https://www.liverpool.k12.ny.us/schools/lm/calendar/2715276/m
 iddle-school-progress-reports-online-5-27-22
DTSTART:20220527T191200Z
DTEND:20220527T201200Z
END:VEVENT
END:VCALENDAR
