BEGIN:VCALENDAR
VERSION:2.0
PRODID:SchoolNow
CALSCALE:GREGORIAN
BEGIN:VEVENT
UID:f2962538-5648-11ec-8d93-0ad557c8d669
DTSTAMP:20211206T143436Z
SUMMARY:LMS Band Concert
LOCATION:Liverpool Middle School
URL;VALUE=URI:https://www.liverpool.k12.ny.us/schools/lm/calendar/2933129/l
 ms-band-concert
DTSTART:20211209T000000Z
DTEND:20211209T020000Z
END:VEVENT
END:VCALENDAR
