BEGIN:VCALENDAR
VERSION:2.0
PRODID:SchoolNow
CALSCALE:GREGORIAN
BEGIN:VEVENT
UID:199c4df6-5649-11ec-87a7-0ad557c8d669
DTSTAMP:20211206T143428Z
SUMMARY:LMS Orchestra Concert
LOCATION:Liverpool Middle School
URL;VALUE=URI:https://www.liverpool.k12.ny.us/schools/lm/calendar/2933130/l
 ms-orchestra-concert
DTSTART:20211216T000000Z
DTEND:20211216T020000Z
END:VEVENT
END:VCALENDAR
