BEGIN:VCALENDAR
VERSION:2.0
PRODID:SchoolNow
CALSCALE:GREGORIAN
BEGIN:VEVENT
UID:f6b34f80-7220-11ec-a8ef-0e18660db275
DTSTAMP:20220110T165958Z
SUMMARY:LMS Chorus Concert
URL;VALUE=URI:https://www.liverpool.k12.ny.us/schools/lm/calendar/3066074/l
 ms-chorus-concert
DTSTART:20220120T000000Z
DTEND:20220120T010000Z
END:VEVENT
END:VCALENDAR
