BEGIN:VCALENDAR
VERSION:2.0
PRODID:SchoolNow
CALSCALE:GREGORIAN
BEGIN:VEVENT
UID:c4cec9b2-7df2-11ec-bfdc-0a5ea86daac3
DTSTAMP:20220125T152337Z
SUMMARY:Capital Project Vote (3-14-22)
LOCATION:Wetzel Road Elementary Gymnasium
URL;VALUE=URI:https://www.liverpool.k12.ny.us/schools/lm/calendar/3081269/c
 apital-project-vote-3-14-22
DTSTART:20220314T100000Z
DTEND:20220315T010000Z
END:VEVENT
END:VCALENDAR
