BEGIN:VCALENDAR
VERSION:2.0
PRODID:SchoolNow
CALSCALE:GREGORIAN
BEGIN:VEVENT
UID:f419dda6-e68e-11ec-9f37-0e786fa374e3
DTSTAMP:20220607T183424Z
SUMMARY:Columbus Day Observance - School Closed (10-10-22)
URL;VALUE=URI:https://www.liverpool.k12.ny.us/schools/lm/calendar/3213799/c
 olumbus-day-observance-10-10-22
DTSTART;VALUE=DATE:20221010
DTEND;VALUE=DATE:20221011
END:VEVENT
END:VCALENDAR
