BEGIN:VCALENDAR
VERSION:2.0
PRODID:SchoolNow
CALSCALE:GREGORIAN
BEGIN:VEVENT
UID:6374dc70-e692-11ec-bc44-0e4e53052bef
DTSTAMP:20220607T184814Z
SUMMARY:Holiday Recess - School Closed (12-26-22)
URL;VALUE=URI:https://www.liverpool.k12.ny.us/schools/lm/calendar/3213893/h
 oliday-recess-school-closed-12-26-22
DTSTART;VALUE=DATE:20221226
DTEND;VALUE=DATE:20221227
END:VEVENT
END:VCALENDAR
