BEGIN:VCALENDAR
VERSION:2.0
PRODID:SchoolNow
CALSCALE:GREGORIAN
BEGIN:VEVENT
UID:348f12f8-e8e6-11ec-859c-0aca6eca568d
DTSTAMP:20220610T175316Z
SUMMARY:Winter Recess - School Closed (2-21-23)
URL;VALUE=URI:https://www.liverpool.k12.ny.us/schools/lm/calendar/3217170/w
 inter-recess-school-closed-2-21-23
DTSTART;VALUE=DATE:20230221
DTEND;VALUE=DATE:20230222
END:VEVENT
END:VCALENDAR
