BEGIN:VCALENDAR
VERSION:2.0
PRODID:SchoolNow
CALSCALE:GREGORIAN
BEGIN:VEVENT
UID:8b47ac36-1d9d-11ed-9e16-02184d5d6b45
DTSTAMP:20220816T195640Z
SUMMARY:Professional Development Early Dismissal (10-12-22)
URL;VALUE=URI:https://www.liverpool.k12.ny.us/schools/lm/calendar/3284234/p
 rofessional-development-early-dismissal-10-12-22
DTSTART;VALUE=DATE:20221012
DTEND;VALUE=DATE:20221013
END:VEVENT
END:VCALENDAR
