BEGIN:VCALENDAR
VERSION:2.0
PRODID:SchoolNow
CALSCALE:GREGORIAN
BEGIN:VEVENT
UID:8f55e608-2347-11ed-9b21-0e7ae8eaa1c5
DTSTAMP:20220824T131713Z
SUMMARY:Find Your Locker Week
URL;VALUE=URI:https://www.liverpool.k12.ny.us/schools/lm/calendar/3299671/f
 ind-your-locker-week
DTSTART;VALUE=DATE:20220829
DTEND;VALUE=DATE:20220903
END:VEVENT
END:VCALENDAR
