BEGIN:VCALENDAR
VERSION:2.0
PRODID:SchoolNow
CALSCALE:GREGORIAN
BEGIN:VEVENT
UID:ebf9dd06-2347-11ed-ae26-0e7ae8eaa1c5
DTSTAMP:20220824T131706Z
SUMMARY:6th Grade Parent/Student Presentation
URL;VALUE=URI:https://www.liverpool.k12.ny.us/schools/lm/calendar/3299672/6
 th-grade-parent-student-presentation
DTSTART:20220831T163000Z
DTEND:20220831T173000Z
END:VEVENT
END:VCALENDAR
