BEGIN:VCALENDAR
VERSION:2.0
PRODID:SchoolNow
CALSCALE:GREGORIAN
BEGIN:VEVENT
UID:05134282-2348-11ed-8c3a-0e7ae8eaa1c5
DTSTAMP:20220824T131658Z
SUMMARY:7th Grade Parent/Student Presentation
URL;VALUE=URI:https://www.liverpool.k12.ny.us/schools/lm/calendar/3299673/7
 th-grade-parent-student-presentation
DTSTART:20220901T163000Z
DTEND:20220901T173000Z
END:VEVENT
END:VCALENDAR
