BEGIN:VCALENDAR
VERSION:2.0
PRODID:SchoolNow
CALSCALE:GREGORIAN
BEGIN:VEVENT
UID:26151564-2348-11ed-882d-0e7ae8eaa1c5
DTSTAMP:20220824T131649Z
SUMMARY:8th Grade Parent/Student Presentation
URL;VALUE=URI:https://www.liverpool.k12.ny.us/schools/lm/calendar/3299674/8
 th-grade-parent-student-presentation
DTSTART:20220902T163000Z
DTEND:20220902T173000Z
END:VEVENT
END:VCALENDAR
