BEGIN:VCALENDAR
VERSION:2.0
PRODID:SchoolNow
CALSCALE:GREGORIAN
BEGIN:VEVENT
UID:4d516de4-2348-11ed-8484-0e7ae8eaa1c5
DTSTAMP:20220824T131637Z
SUMMARY:Picture Day
URL;VALUE=URI:https://www.liverpool.k12.ny.us/schools/lm/calendar/3299675/p
 icture-day
DTSTART;VALUE=DATE:20220916
DTEND;VALUE=DATE:20220917
END:VEVENT
END:VCALENDAR
