BEGIN:VCALENDAR
VERSION:2.0
PRODID:SchoolNow
CALSCALE:GREGORIAN
BEGIN:VEVENT
UID:4bd3785c-234a-11ed-9863-0ad09e0df459
DTSTAMP:20220825T131651Z
SUMMARY:PTO Meeting
URL;VALUE=URI:https://www.liverpool.k12.ny.us/schools/lm/calendar/3299676/p
 to-meeting
DTSTART:20220921T230000Z
DTEND:20220922T000000Z
END:VEVENT
END:VCALENDAR
