BEGIN:VCALENDAR
VERSION:2.0
PRODID:SchoolNow
CALSCALE:GREGORIAN
BEGIN:VEVENT
UID:9cc01c1e-bc84-11ee-9889-0a58a9feac02
DTSTAMP:20240126T203925Z
SUMMARY:NYS Testing: ELA Session 1 (Grade 5)
URL;VALUE=URI:https://www.liverpool.k12.ny.us/schools/mre/calendar/5213135/
 nys-testing-ela-session-1-grade-5
DTSTART;VALUE=DATE:20240411
DTEND;VALUE=DATE:20240412
END:VEVENT
END:VCALENDAR
