BEGIN:VCALENDAR
VERSION:2.0
PRODID:SchoolNow
CALSCALE:GREGORIAN
BEGIN:VEVENT
UID:f4dd15be-bc84-11ee-af8f-0a58a9feac02
DTSTAMP:20240126T204017Z
SUMMARY:NYS Testing: ELA Session 2 (Grade 5)
URL;VALUE=URI:https://www.liverpool.k12.ny.us/schools/mre/calendar/5213609/
 nys-testing-ela-session-2-grade-5
DTSTART;VALUE=DATE:20240412
DTEND;VALUE=DATE:20240413
END:VEVENT
END:VCALENDAR
