BEGIN:VCALENDAR
VERSION:2.0
PRODID:SchoolNow
CALSCALE:GREGORIAN
BEGIN:VEVENT
UID:28570e68-396c-11ef-97dd-0affddf12909
DTSTAMP:20240703T184336Z
SUMMARY:Holiday Recess - School Closed (12-25-24)
URL;VALUE=URI:https://www.liverpool.k12.ny.us/schools/mre/calendar/6208122/
 holiday-recess-school-closed-12-25-24
DTSTART:20241225T194200Z
DTEND:20241225T204200Z
END:VEVENT
END:VCALENDAR
