BEGIN:VCALENDAR
VERSION:2.0
PRODID:SchoolNow
CALSCALE:GREGORIAN
BEGIN:VEVENT
UID:49182dce-3d33-11ef-b5c2-0affea4aed0f
DTSTAMP:20240708T140635Z
SUMMARY:New Year's Holiday - School Closed (1-1-25)
URL;VALUE=URI:https://www.liverpool.k12.ny.us/schools/mre/calendar/6231528/
 new-years-holiday-school-closed-1-1-25
DTSTART:20250101T150500Z
DTEND:20250101T160500Z
END:VEVENT
END:VCALENDAR
