BEGIN:VCALENDAR
VERSION:2.0
PRODID:SchoolNow
CALSCALE:GREGORIAN
BEGIN:VEVENT
UID:1f14f6d6-3d35-11ef-b561-0afff004008f
DTSTAMP:20240708T141943Z
SUMMARY:Lunar New Year - School Closed (1-29-25)
URL;VALUE=URI:https://www.liverpool.k12.ny.us/schools/mre/calendar/6231593/
 lunar-new-year-school-closed-1-29-25
DTSTART:20250129T151800Z
DTEND:20250129T161800Z
END:VEVENT
END:VCALENDAR
