BEGIN:VCALENDAR
VERSION:2.0
PRODID:SchoolNow
CALSCALE:GREGORIAN
BEGIN:VEVENT
UID:e50152d0-3d3b-11ef-92ab-0a58a9feac02
DTSTAMP:20240708T150812Z
SUMMARY:Memorial Day Holiday - School Closed (5-26-25)
URL;VALUE=URI:https://www.liverpool.k12.ny.us/schools/mre/calendar/6231829/
 memorial-day-holiday-school-closed-5-26-25
DTSTART:20250526T150600Z
DTEND:20250526T160600Z
END:VEVENT
END:VCALENDAR
