BEGIN:VCALENDAR
VERSION:2.0
PRODID:SchoolNow
CALSCALE:GREGORIAN
BEGIN:VEVENT
UID:96659df8-2c22-11f0-9d88-0a58a9feac02
DTSTAMP:20250508T153911Z
SUMMARY:Thanksgiving Recess - School Closed (11-28-25)
URL;VALUE=URI:https://www.liverpool.k12.ny.us/schools/mre/calendar/8090531/
 thanksgiving-recess-school-closed-11-28-25
DTSTART:20251128T163700Z
DTEND:20251128T173700Z
END:VEVENT
END:VCALENDAR
