BEGIN:VCALENDAR
VERSION:2.0
PRODID:SchoolNow
CALSCALE:GREGORIAN
BEGIN:VEVENT
UID:a1305028-2c29-11f0-b28f-0a58a9feac02
DTSTAMP:20250508T162935Z
SUMMARY:Holiday Recess - School Closed (12-24-25)
URL;VALUE=URI:https://www.liverpool.k12.ny.us/schools/mre/calendar/8090695/
 holiday-recess-school-closed-12-24-25
DTSTART:20251224T172800Z
DTEND:20251224T182800Z
END:VEVENT
END:VCALENDAR
