BEGIN:VCALENDAR
VERSION:2.0
PRODID:SchoolNow
CALSCALE:GREGORIAN
BEGIN:VEVENT
UID:df78cdd8-2c2e-11f0-87d6-024099920871
DTSTAMP:20250508T170707Z
SUMMARY:Winter Recess - School Closed (2-19-26)
URL;VALUE=URI:https://www.liverpool.k12.ny.us/schools/mre/calendar/8090897/
 winter-recess-school-closed-2-19-26
DTSTART:20260219T180500Z
DTEND:20260219T190500Z
END:VEVENT
END:VCALENDAR
