BEGIN:VCALENDAR
VERSION:2.0
PRODID:SchoolNow
CALSCALE:GREGORIAN
BEGIN:VEVENT
UID:f6e6824e-35a7-11f0-9ea3-0affc86ceec7
DTSTAMP:20250520T182656Z
SUMMARY:Last Week of School - Early Dismissal (6-25-25)
URL;VALUE=URI:https://www.liverpool.k12.ny.us/schools/mre/calendar/8169906/
 last-week-of-school-early-dismissal
DTSTART:20250625T182500Z
DTEND:20250625T192500Z
END:VEVENT
END:VCALENDAR
