BEGIN:VCALENDAR
VERSION:2.0
PRODID:SchoolNow
CALSCALE:GREGORIAN
BEGIN:VEVENT
UID:5b041c04-a44e-11f0-969e-0a58a9feac02
DTSTAMP:20251008T135448Z
SUMMARY:Early Dismissal Drills (11-25-25)
URL;VALUE=URI:https://www.liverpool.k12.ny.us/schools/mre/calendar/8705310/
 early-dismissal-drills-11-25-25
DTSTART:20251125T145300Z
DTEND:20251125T155300Z
END:VEVENT
END:VCALENDAR
