BEGIN:VCALENDAR
VERSION:2.0
PRODID:SchoolNow
CALSCALE:GREGORIAN
BEGIN:VEVENT
UID:c8f6eef0-c197-11ec-8e56-0e6e5f723a4b
DTSTAMP:20220531T172032Z
SUMMARY:Central Quadrant PTO Ice Cream Social
LOCATION:Morgan Road Elementary
URL;VALUE=URI:https://www.liverpool.k12.ny.us/schools/mrm/calendar/3177161/
 central-quadrant-pto-ice-cream-social
DTSTART:20220614T213000Z
DTEND:20220614T230000Z
END:VEVENT
END:VCALENDAR
