BEGIN:VCALENDAR
VERSION:2.0
PRODID:SchoolNow
CALSCALE:GREGORIAN
BEGIN:VEVENT
UID:08d32e62-c198-11ec-b124-0e6e5f723a4b
DTSTAMP:20220421T172526Z
SUMMARY:Central Quadrant PTO Meeting (5-10-22)
LOCATION:Morgan Road Elementary
URL;VALUE=URI:https://www.liverpool.k12.ny.us/schools/mrm/calendar/3177162/
 central-quadrant-pto-meeting-5-10-22
DTSTART:20220510T220000Z
DTEND:20220510T230000Z
END:VEVENT
END:VCALENDAR
