BEGIN:VCALENDAR
VERSION:2.0
PRODID:SchoolNow
CALSCALE:GREGORIAN
BEGIN:VEVENT
UID:b3327f04-e68f-11ec-9abf-0e786fa374e3
DTSTAMP:20220607T182900Z
SUMMARY:Superintendent's Conference Day - Students Do Not Report (11-8-22)
URL;VALUE=URI:https://www.liverpool.k12.ny.us/schools/mrm/calendar/3213817/
 superintendents-conference-day-students-do-not-report-11-8-22
DTSTART;VALUE=DATE:20221108
DTEND;VALUE=DATE:20221109
END:VEVENT
END:VCALENDAR
