BEGIN:VCALENDAR
VERSION:2.0
PRODID:SchoolNow
CALSCALE:GREGORIAN
BEGIN:VEVENT
UID:fa301258-e690-11ec-aea7-0e786fa374e3
DTSTAMP:20220607T183808Z
SUMMARY:Thanksgiving Recess - School Closed (11-23-22)
URL;VALUE=URI:https://www.liverpool.k12.ny.us/schools/mrm/calendar/3213851/
 thanksgiving-recess-school-closed-11-23-22
DTSTART;VALUE=DATE:20221123
DTEND;VALUE=DATE:20221124
END:VEVENT
END:VCALENDAR
