BEGIN:VCALENDAR
VERSION:2.0
PRODID:SchoolNow
CALSCALE:GREGORIAN
BEGIN:VEVENT
UID:c0578032-e692-11ec-b079-0e4e53052bef
DTSTAMP:20220607T185050Z
SUMMARY:Holiday Recess - School Closed (12-27-22)
URL;VALUE=URI:https://www.liverpool.k12.ny.us/schools/mrm/calendar/3213911/
 holiday-recess-school-closed-12-27-22
DTSTART;VALUE=DATE:20221227
DTEND;VALUE=DATE:20221228
END:VEVENT
END:VCALENDAR
