BEGIN:VCALENDAR
VERSION:2.0
PRODID:SchoolNow
CALSCALE:GREGORIAN
BEGIN:VEVENT
UID:a4f6dd5a-e693-11ec-9359-0e4e53052bef
DTSTAMP:20220607T185714Z
SUMMARY:Holiday Recess - School Closed (12-30-22)
URL;VALUE=URI:https://www.liverpool.k12.ny.us/schools/mrm/calendar/3213956/
 holiday-recess-school-closed-12-30-22
DTSTART;VALUE=DATE:20221230
DTEND;VALUE=DATE:20221231
END:VEVENT
END:VCALENDAR
