BEGIN:VCALENDAR
VERSION:2.0
PRODID:SchoolNow
CALSCALE:GREGORIAN
BEGIN:VEVENT
UID:37aebcda-e694-11ec-b5d2-0e4e53052bef
DTSTAMP:20220607T190120Z
SUMMARY:Martin Luther King Day - School Closed (1-16-22)
URL;VALUE=URI:https://www.liverpool.k12.ny.us/schools/mrm/calendar/3213985/
 martin-luther-king-day-school-closed-1-16-22
DTSTART;VALUE=DATE:20230116
DTEND;VALUE=DATE:20230117
END:VEVENT
END:VCALENDAR
