BEGIN:VCALENDAR
VERSION:2.0
PRODID:SchoolNow
CALSCALE:GREGORIAN
BEGIN:VEVENT
UID:0f502ab8-e8e6-11ec-b984-0aca6eca568d
DTSTAMP:20220610T175213Z
SUMMARY:President's Day - School Closed (2-20-23)
URL;VALUE=URI:https://www.liverpool.k12.ny.us/schools/mrm/calendar/3217159/
 presidents-day-school-closed-2-20-23
DTSTART;VALUE=DATE:20230220
DTEND;VALUE=DATE:20230221
END:VEVENT
END:VCALENDAR
