BEGIN:VCALENDAR
VERSION:2.0
PRODID:SchoolNow
CALSCALE:GREGORIAN
BEGIN:VEVENT
UID:51c58e18-fe28-11ec-8b05-0ec0e2f11e91
DTSTAMP:20220708T131617Z
SUMMARY:MRM Picture Day
LOCATION:Morgan Road Middle School
URL;VALUE=URI:https://www.liverpool.k12.ny.us/schools/mrm/calendar/3238573/
 mrm-picture-day
DTSTART;VALUE=DATE:20220915
DTEND;VALUE=DATE:20220916
END:VEVENT
END:VCALENDAR
