BEGIN:VCALENDAR
VERSION:2.0
PRODID:SchoolNow
CALSCALE:GREGORIAN
BEGIN:VEVENT
UID:619fa99a-1d9a-11ed-97fc-02184d5d6b45
DTSTAMP:20220816T193401Z
SUMMARY:Middle School Report Cards Online (11-4-22)
URL;VALUE=URI:https://www.liverpool.k12.ny.us/schools/mrm/calendar/3284177/
 middle-school-report-cards-online-11-4-22
DTSTART;VALUE=DATE:20221104
DTEND;VALUE=DATE:20221105
END:VEVENT
END:VCALENDAR
