BEGIN:VCALENDAR
VERSION:2.0
PRODID:SchoolNow
CALSCALE:GREGORIAN
BEGIN:VEVENT
UID:89259b96-1d9a-11ed-8c61-02184d5d6b45
DTSTAMP:20220816T193508Z
SUMMARY:Middle School Report Cards Online (1-6-23)
URL;VALUE=URI:https://www.liverpool.k12.ny.us/schools/mrm/calendar/3284182/
 middle-school-report-cards-online-1-6-23
DTSTART;VALUE=DATE:20230106
DTEND;VALUE=DATE:20230107
END:VEVENT
END:VCALENDAR
