BEGIN:VCALENDAR
VERSION:2.0
PRODID:SchoolNow
CALSCALE:GREGORIAN
BEGIN:VEVENT
UID:0a94714c-3831-11ed-990f-0208e5482c83
DTSTAMP:20220919T153800Z
SUMMARY:Strategic Plan Community Forum 10-17-22
LOCATION:Morgan Road Middle
URL;VALUE=URI:https://www.liverpool.k12.ny.us/schools/mrm/calendar/3414137/
 strategic-plan-community-forum-10-17-22
DTSTART:20221017T213000Z
DTEND:20221017T223000Z
END:VEVENT
END:VCALENDAR
