BEGIN:VCALENDAR
VERSION:2.0
PRODID:SchoolNow
CALSCALE:GREGORIAN
BEGIN:VEVENT
UID:9470da36-3831-11ed-adb4-0208e5482c83
DTSTAMP:20220919T154151Z
SUMMARY:Strategic Plan Community Forum 10-19-22
LOCATION:Liverpool Middle
URL;VALUE=URI:https://www.liverpool.k12.ny.us/schools/mrm/calendar/3414151/
 strategic-plan-community-forum-10-19-22
DTSTART:20221019T220000Z
DTEND:20221019T230000Z
END:VEVENT
END:VCALENDAR
